BEGIN:VCALENDAR
VERSION:2.0
PRODID:-//Gullah Geechee Seafood Trail - ECPv6.15.11//NONSGML v1.0//EN
CALSCALE:GREGORIAN
METHOD:PUBLISH
X-ORIGINAL-URL:https://www.gullahgeecheeseafoodtrail.com
X-WR-CALDESC:Events for Gullah Geechee Seafood Trail
REFRESH-INTERVAL;VALUE=DURATION:PT1H
X-Robots-Tag:noindex
X-PUBLISHED-TTL:PT1H
BEGIN:VTIMEZONE
TZID:America/New_York
BEGIN:DAYLIGHT
TZOFFSETFROM:-0500
TZOFFSETTO:-0400
TZNAME:EDT
DTSTART:20240310T070000
END:DAYLIGHT
BEGIN:STANDARD
TZOFFSETFROM:-0400
TZOFFSETTO:-0500
TZNAME:EST
DTSTART:20241103T060000
END:STANDARD
BEGIN:DAYLIGHT
TZOFFSETFROM:-0500
TZOFFSETTO:-0400
TZNAME:EDT
DTSTART:20250309T070000
END:DAYLIGHT
BEGIN:STANDARD
TZOFFSETFROM:-0400
TZOFFSETTO:-0500
TZNAME:EST
DTSTART:20251102T060000
END:STANDARD
BEGIN:DAYLIGHT
TZOFFSETFROM:-0500
TZOFFSETTO:-0400
TZNAME:EDT
DTSTART:20260308T070000
END:DAYLIGHT
BEGIN:STANDARD
TZOFFSETFROM:-0400
TZOFFSETTO:-0500
TZNAME:EST
DTSTART:20261101T060000
END:STANDARD
END:VTIMEZONE
BEGIN:VEVENT
DTSTART;VALUE=DATE:20250829
DTEND;VALUE=DATE:20250901
DTSTAMP:20260421T193857
CREATED:20250124T232456Z
LAST-MODIFIED:20250124T233400Z
UID:3212-1756425600-1756684799@www.gullahgeecheeseafoodtrail.com
SUMMARY:Gullah Geechee Festival
DESCRIPTION:
URL:https://www.gullahgeecheeseafoodtrail.com/event/gullah-geechee-festival/
LOCATION:Atlantic Beach\, SC\, Atlantic Beach\, SC\, United States
CATEGORIES:FESTIVAL
END:VEVENT
END:VCALENDAR